BEGIN:VCALENDAR
VERSION:2.0
PRODID:-//Alexander und Renata Camaro Stiftung - ECPv6.13.2.1//NONSGML v1.0//EN
CALSCALE:GREGORIAN
METHOD:PUBLISH
X-WR-CALNAME:Alexander und Renata Camaro Stiftung
X-ORIGINAL-URL:https://camaro-stiftung.de
X-WR-CALDESC:Veranstaltungen für Alexander und Renata Camaro Stiftung
REFRESH-INTERVAL;VALUE=DURATION:PT1H
X-Robots-Tag:noindex
X-PUBLISHED-TTL:PT1H
BEGIN:VTIMEZONE
TZID:Europe/Berlin
BEGIN:DAYLIGHT
TZOFFSETFROM:+0100
TZOFFSETTO:+0200
TZNAME:CEST
DTSTART:20160327T010000
END:DAYLIGHT
BEGIN:STANDARD
TZOFFSETFROM:+0200
TZOFFSETTO:+0100
TZNAME:CET
DTSTART:20161030T010000
END:STANDARD
END:VTIMEZONE
BEGIN:VEVENT
DTSTART;TZID=Europe/Berlin:20160706T170000
DTEND;TZID=Europe/Berlin:20160706T213000
DTSTAMP:20260421T152209
CREATED:20190508T101143Z
LAST-MODIFIED:20191115T095916Z
UID:1630-1467824400-1467840600@camaro-stiftung.de
SUMMARY:Finissage: Unica Zürn – Camaro – Hans Bellmer in Berlin
DESCRIPTION:17 Uhr   Beginn\nLive-Musik\, Jazzduo \n  \n18 Uhr   Kinderworkshop „Das ist keine Katze\, das ist eine Pfeife!“ – Malen und Basteln wie die Surrealisten \n  \n18\, 19\, 20\, 21 Uhr   Unica Zürn lebt! – Surrealistische Kurzführungen durch die Ausstellung\, mit dabei: die Schauspielerin Julia Pohl \n  \n22 Uhr   Openair-Kino „Les jeux à deux – Die Spiele zu zweit“\, 1995\, 70 min.\, Dokudrama mit Kathi Liers\, Ulrich Wildgruber und Martina Gedeck\, Regie: Friederike Beck \n  \n  \n\n\nZur Ausstellung\n13.03.2016\, 17 Uhr – Ilma Rakusa (Zürich)\, Lesung\n14.04.2016\, 20 Uhr – Friederike Beck\, Dokudrama\n10.05.2016\, 20 Uhr – Seyko Itoh und Ensemble\, Konzert\n26.05.2016\, 19 Uhr – Dr. Rike Felka (Berlin)\, Vortrag\n06.07.2016\, 17 Uhr – Finissage
URL:https://camaro-stiftung.de/programm/finissage-unica-zuern-camaro-hans-bellmer-in-berlin/
LOCATION:Camaro Haus\, Potsdamer Str. 98 A\, Berlin\, Berlin\, 10785\, Deutschland
CATEGORIES:Finissage
ATTACH;FMTTYPE=image/jpeg:https://camaro-stiftung.de/wp-content/uploads/2019/05/zuern-titel-02-e1557307302120.jpg
ORGANIZER;CN="Alexander und Renata Camaro Stiftung":MAILTO:info@camaro-stiftung.de
END:VEVENT
END:VCALENDAR