BEGIN:VCALENDAR
VERSION:2.0
PRODID:-//Alexander und Renata Camaro Stiftung - ECPv6.13.2.1//NONSGML v1.0//EN
CALSCALE:GREGORIAN
METHOD:PUBLISH
X-WR-CALNAME:Alexander und Renata Camaro Stiftung
X-ORIGINAL-URL:https://camaro-stiftung.de
X-WR-CALDESC:Veranstaltungen für Alexander und Renata Camaro Stiftung
REFRESH-INTERVAL;VALUE=DURATION:PT1H
X-Robots-Tag:noindex
X-PUBLISHED-TTL:PT1H
BEGIN:VTIMEZONE
TZID:Europe/Berlin
BEGIN:DAYLIGHT
TZOFFSETFROM:+0100
TZOFFSETTO:+0200
TZNAME:CEST
DTSTART:20240331T010000
END:DAYLIGHT
BEGIN:STANDARD
TZOFFSETFROM:+0200
TZOFFSETTO:+0100
TZNAME:CET
DTSTART:20241027T010000
END:STANDARD
END:VTIMEZONE
BEGIN:VEVENT
DTSTART;TZID=Europe/Berlin:20241024T180000
DTEND;TZID=Europe/Berlin:20241024T180000
DTSTAMP:20260422T124306
CREATED:20241023T101053Z
LAST-MODIFIED:20241023T154329Z
UID:5848-1729792800-1729792800@camaro-stiftung.de
SUMMARY:Die Wunderkammer der Anderen - Le Cabinet des Curiosités des Autres
DESCRIPTION:Eine Ausstellung des Vereins der Berliner Künstlerinnen 1867 e.V. in Kooperation mit der Camaro Stiftung und mit freundlicher Unterstützung der Bühler-Bolstorff-Stiftung. \nDie Ausstellung findet im Projektraum des Vereins der Berliner Künstlerinnen 1867 e.V.\, in der Eisenacher Str. 118 statt und läuft bis zum 24.11.2024. \n  \n„Die Wunderkammer der Anderen – Le Cabinet des Curiosités des Autres“\noffenbart Teile der inneren Welten von annähernd 60 künstlerischen Positionen und zeigt eine weit gefächerte gestalterische Bandbreite. Es werden Objektkästen präsentiert\, die in einer besonders für junge Menschen erdachten Inszenierung gezeigt werden. \nMittels eines Kulturinstituts in Frankreich kam eine Vernetzung mit französischen Künstler:innen zu Stande. In einer Künstler:innenresidenz wurde das Vermittlungskonzept zur Ausstellung erstellt und in Berlin weiterentwickelt. \nIn der Ausstellung finden täglich Führungen und Workshops für Berliner Schulen statt\, die auch über den 24.11.2024 hinaus in den Räumen der Alexander und Renata Camaro Stiftung fortgesetzt werden. \nDie Camaro Stiftung schließt am Donnerstag (24.10.2024) bereits um 17 Uhr\, damit alle bei der Vernissage dabei sein können. \n  \nWir freuen uns auf Euch! \n  \n  \n  \n*Durch die Teilnahme an den Veranstaltungen erklären Sie sich mit der möglichen Veröffentlichung von Bildmaterial\, auf dem Sie abgebildet sind\, einverstanden.
URL:https://camaro-stiftung.de/programm/die-wunderkammer-der-anderen-le-cabinet-des-curiosites-des-autres/
LOCATION:Verein der Berliner Künstlerinnn 1867 e.V.\, Eisenacher Str. 118\, Berlin\, 10777\, Germany
CATEGORIES:Ausstellung
ATTACH;FMTTYPE=image/jpeg:https://camaro-stiftung.de/wp-content/uploads/2024/10/wunderkammerfront.jpg
END:VEVENT
END:VCALENDAR